BEGIN:VCALENDAR
VERSION:2.0
PRODID:-//Northern Illinois Hospice - ECPv6.15.20//NONSGML v1.0//EN
CALSCALE:GREGORIAN
METHOD:PUBLISH
X-WR-CALNAME:Northern Illinois Hospice
X-ORIGINAL-URL:https://northernillinoishospice.org
X-WR-CALDESC:Events for Northern Illinois Hospice
REFRESH-INTERVAL;VALUE=DURATION:PT1H
X-Robots-Tag:noindex
X-PUBLISHED-TTL:PT1H
BEGIN:VTIMEZONE
TZID:America/Chicago
BEGIN:DAYLIGHT
TZOFFSETFROM:-0600
TZOFFSETTO:-0500
TZNAME:CDT
DTSTART:20250309T080000
END:DAYLIGHT
BEGIN:STANDARD
TZOFFSETFROM:-0500
TZOFFSETTO:-0600
TZNAME:CST
DTSTART:20251102T070000
END:STANDARD
BEGIN:DAYLIGHT
TZOFFSETFROM:-0600
TZOFFSETTO:-0500
TZNAME:CDT
DTSTART:20260308T080000
END:DAYLIGHT
BEGIN:STANDARD
TZOFFSETFROM:-0500
TZOFFSETTO:-0600
TZNAME:CST
DTSTART:20261101T070000
END:STANDARD
BEGIN:DAYLIGHT
TZOFFSETFROM:-0600
TZOFFSETTO:-0500
TZNAME:CDT
DTSTART:20270314T080000
END:DAYLIGHT
BEGIN:STANDARD
TZOFFSETFROM:-0500
TZOFFSETTO:-0600
TZNAME:CST
DTSTART:20271107T070000
END:STANDARD
END:VTIMEZONE
BEGIN:VEVENT
DTSTART;TZID=America/Chicago:20260627T093000
DTEND;TZID=America/Chicago:20260627T120000
DTSTAMP:20260422T160335
CREATED:20260318T145543Z
LAST-MODIFIED:20260318T162859Z
UID:10001062-1782552600-1782561600@northernillinoishospice.org
SUMMARY:Memorial Pillow Workshop - June 27\, 2026
DESCRIPTION:[vc_row nav_skin=”light” consent_include=”include” el_design=”{“desktop“:{“margin-bottom“:“0“\,“border-bottom“:0\,“padding-bottom“:“0“}}”][vc_column css_animation=””][vc_text_element css_animation=””] \nJoin Northern Illinois Hospice for a Memorial Pillow Workshop on Saturday\, June 27th\, 2026\, at DeKalb Public Library. This is a free workshop that will provide the opportunity to create a pillow from a loved one’s button-down shirt or t-shirt. Sewers will be available to assist you; all you need to bring is the shirt you would like for your pillow. Individuals or family groups can create up to two pillows during the one-hour workshop. Please do not bring jackets\, denim\, or thick fabrics. Registration is required; space is limited. \nBereavement support and information will be available. Missing our loved ones is difficult; come create a huggable\, lovable memorial to cherish. \nDate: Saturday\, June 27\, 2026\nTimes: 9:30 AM or 10:45 AM (two sessions available)\nLocation: DeKalb Public Library\, Yusunas Room\,309 Oak Street\, DeKalb\, IL 60115 \nWe hope you will join us for one of the sessions at the Memorial Pillow Workshop at DeKalb Public Library on June 27\, 2026.[/vc_text_element][/vc_column][/vc_row][vc_row nav_skin=”light” consent_include=”include” el_design=”{“desktop“:{“margin-right“:“500“}}”][vc_column width=”1/2″ css_animation=””][vc_button_default title=”Register for 9:30 Workshop” style=”primary” size=”5″ display=”display_block” css_animation=”” link=”url:https%3A%2F%2Fdkpl.org%2Fevents%2F%23%2Fevents%2Fwv1Zcn7PTL%2Finstances%2FIUk5qjRaB1%2F%20″][/vc_column][vc_column width=”1/2″ css_animation=””][vc_button_default title=”Register for 10:45 Workshop” style=”primary” size=”5″ display=”display_block” css_animation=”” link=”url:https%3A%2F%2Fdkpl.org%2Fevents%2F%23%2Fevents%2FsfYyGmeBIR%2Finstances%2FvBo0F5UvBR%2F”][/vc_column][/vc_row][vc_row nav_skin=”light” consent_include=”include”][vc_column css_animation=””][vc_text_element css_animation=””] \nIn addition to the Memorial Pillow Workshop\, Northern Illinois Hospice offers a variety of other grief support groups tailored to different needs and communities\, including: \n\nTranquil Tuesdays\nA Walkabout With Grief\nBridge of Hope\, A Bereavement Care Group – Rockford\nBridge of Hope\, A Bereavement Care Group – Sycamore\nMemorial Pillow Workshops\n\nFor more information about these programs and how to register\, please contact Northern Illinois Hospice at 815-398-0500. \n[/vc_text_element][/vc_column][/vc_row]
URL:https://northernillinoishospice.org/event-details/memorial-pillow-workshop-june-27-2026/
LOCATION:DeKalb Public Library\, 309 Oak Street\, DeKalb\, IL\, 60115\, United States
ATTACH;FMTTYPE=image/jpeg:https://northernillinoishospice.org/wp-content/uploads/2026/03/Memorial-Pillow-Workshop-06-27-2026.jpg
END:VEVENT
END:VCALENDAR