BEGIN:VCALENDAR
VERSION:2.0
PRODID:-//Northern Illinois Hospice - ECPv6.15.20//NONSGML v1.0//EN
CALSCALE:GREGORIAN
METHOD:PUBLISH
X-ORIGINAL-URL:https://northernillinoishospice.org
X-WR-CALDESC:Events for Northern Illinois Hospice
REFRESH-INTERVAL;VALUE=DURATION:PT1H
X-Robots-Tag:noindex
X-PUBLISHED-TTL:PT1H
BEGIN:VTIMEZONE
TZID:America/Chicago
BEGIN:DAYLIGHT
TZOFFSETFROM:-0600
TZOFFSETTO:-0500
TZNAME:CDT
DTSTART:20250309T080000
END:DAYLIGHT
BEGIN:STANDARD
TZOFFSETFROM:-0500
TZOFFSETTO:-0600
TZNAME:CST
DTSTART:20251102T070000
END:STANDARD
BEGIN:DAYLIGHT
TZOFFSETFROM:-0600
TZOFFSETTO:-0500
TZNAME:CDT
DTSTART:20260308T080000
END:DAYLIGHT
BEGIN:STANDARD
TZOFFSETFROM:-0500
TZOFFSETTO:-0600
TZNAME:CST
DTSTART:20261101T070000
END:STANDARD
BEGIN:DAYLIGHT
TZOFFSETFROM:-0600
TZOFFSETTO:-0500
TZNAME:CDT
DTSTART:20270314T080000
END:DAYLIGHT
BEGIN:STANDARD
TZOFFSETFROM:-0500
TZOFFSETTO:-0600
TZNAME:CST
DTSTART:20271107T070000
END:STANDARD
END:VTIMEZONE
BEGIN:VEVENT
DTSTART;TZID=America/Chicago:20260901T103000
DTEND;TZID=America/Chicago:20260901T120000
DTSTAMP:20260422T160205
CREATED:20260318T162722Z
LAST-MODIFIED:20260318T162859Z
UID:10001076-1788258600-1788264000@northernillinoishospice.org
SUMMARY:Tranquil Tuesdays - September 1\, 2026
DESCRIPTION:[vc_row nav_skin=”light” consent_include=”include”][vc_column css_animation=””][vc_text_element css_animation=””] \nGrief can sometimes be overwhelming\, and nature is a great means to break the cycle of stressors. Please join Northern Illinois Hospice for Tranquil Tuesdays on September 1\, 2026\, at Anderson Gardens as we explore the grief in our lives and experience new ways to grow through our grief and loss stories. \nDates: Tuesdays\, June 2 – September 1\, 2026\nTime: 10:30 AM – 12:00 PM\nLocation: Anderson Japanese Gardens\, 318 Spring Creek Road\, Rockford \nReservations are required. Please call Northern Illinois Hospice Bereavement Coordinator\, Cindy Holda\, at 779-774-9820 to reserve your place! Group size is limited. \nWe hope to see you September 1\, 2026 at Anderson Gardens for the next Tranquil Tuesdays session. \n\n\n                \n                        \n                            Tranquil Tuesdays\n                             \n                        \n                        Name*Home Address (Address\, City\, State\, Zip)*Email*Phone*CAPTCHA\n          \n            \n            \n            \n            \n            \n            \n            \n            \n            \n            \n            \n            \n            \n        \n                        \n                        \n\nIn addition to Bridge of Hope\, Northern Illinois Hospice offers a variety of other grief support groups tailored to different needs and communities\, including: \n\nMemorial Pillow Workshops\nA Walkabout With Grief\nBridge of Hope\, A Bereavement Care Group – Rockford\nBridge of Hope\, A Bereavement Care Group – Sycamore\nTranquil Tuesdays\n\nFor more information about these programs and how to register\, please contact Northern Illinois Hospice at 815-398-0500. \n[/vc_text_element][/vc_column][/vc_row]
URL:https://northernillinoishospice.org/event-details/tranquil-tuesdays-september-1-2026/
LOCATION:Anderson Japanese Gardens\, 318 Spring Creek Road\, Rockford\, 61107
ATTACH;FMTTYPE=image/jpeg:https://northernillinoishospice.org/wp-content/uploads/2026/03/Tranquil-Tuesdays_Postcard.jpg
END:VEVENT
END:VCALENDAR