BEGIN:VCALENDAR
VERSION:2.0
PRODID:-//Northern Illinois Hospice - ECPv6.15.20//NONSGML v1.0//EN
CALSCALE:GREGORIAN
METHOD:PUBLISH
X-ORIGINAL-URL:https://northernillinoishospice.org
X-WR-CALDESC:Events for Northern Illinois Hospice
REFRESH-INTERVAL;VALUE=DURATION:PT1H
X-Robots-Tag:noindex
X-PUBLISHED-TTL:PT1H
BEGIN:VTIMEZONE
TZID:America/Chicago
BEGIN:DAYLIGHT
TZOFFSETFROM:-0600
TZOFFSETTO:-0500
TZNAME:CDT
DTSTART:20250309T080000
END:DAYLIGHT
BEGIN:STANDARD
TZOFFSETFROM:-0500
TZOFFSETTO:-0600
TZNAME:CST
DTSTART:20251102T070000
END:STANDARD
BEGIN:DAYLIGHT
TZOFFSETFROM:-0600
TZOFFSETTO:-0500
TZNAME:CDT
DTSTART:20260308T080000
END:DAYLIGHT
BEGIN:STANDARD
TZOFFSETFROM:-0500
TZOFFSETTO:-0600
TZNAME:CST
DTSTART:20261101T070000
END:STANDARD
BEGIN:DAYLIGHT
TZOFFSETFROM:-0600
TZOFFSETTO:-0500
TZNAME:CDT
DTSTART:20270314T080000
END:DAYLIGHT
BEGIN:STANDARD
TZOFFSETFROM:-0500
TZOFFSETTO:-0600
TZNAME:CST
DTSTART:20271107T070000
END:STANDARD
END:VTIMEZONE
BEGIN:VEVENT
DTSTART;TZID=America/Chicago:20260707T103000
DTEND;TZID=America/Chicago:20260707T120000
DTSTAMP:20260422T164257
CREATED:20260318T161229Z
LAST-MODIFIED:20260318T162859Z
UID:10001068-1783420200-1783425600@northernillinoishospice.org
SUMMARY:Tranquil Tuesdays - July 7\, 2026
DESCRIPTION:[vc_row nav_skin=”light” consent_include=”include”][vc_column css_animation=””][vc_text_element css_animation=””] \nGrief can sometimes be overwhelming\, and nature is a great means to break the cycle of stressors. Please join Northern Illinois Hospice for Tranquil Tuesdays on July 7\, 2026\, at Anderson Gardens as we explore the grief in our lives and experience new ways to grow through our grief and loss stories. \nDates: Tuesdays\, June 2 – September 1\, 2026\nTime: 10:30 AM – 12:00 PM\nLocation: Anderson Japanese Gardens\, 318 Spring Creek Road\, Rockford \nReservations are required. Please call Northern Illinois Hospice Bereavement Coordinator\, Cindy Holda\, at 779-774-9820 to reserve your place! Group size is limited. \nWe hope to see you July 7\, 2026 at Anderson Gardens for the next Tranquil Tuesdays session. \n\n\n                \n                        \n                            Tranquil Tuesdays\n                             \n                        \n                        Name*Home Address (Address\, City\, State\, Zip)*Email*Phone*CAPTCHA\n          \n            \n            \n            \n            \n            \n            \n            \n            \n            \n            \n            \n            \n            \n        \n                        \n                        \n\nIn addition to Bridge of Hope\, Northern Illinois Hospice offers a variety of other grief support groups tailored to different needs and communities\, including: \n\nMemorial Pillow Workshops\nA Walkabout With Grief\nBridge of Hope\, A Bereavement Care Group – Rockford\nBridge of Hope\, A Bereavement Care Group – Sycamore\nTranquil Tuesdays\n\nFor more information about these programs and how to register\, please contact Northern Illinois Hospice at 815-398-0500. \n[/vc_text_element][/vc_column][/vc_row]
URL:https://northernillinoishospice.org/event-details/tranquil-tuesdays-july-7-2026/
LOCATION:Anderson Japanese Gardens\, 318 Spring Creek Road\, Rockford\, 61107
ATTACH;FMTTYPE=image/jpeg:https://northernillinoishospice.org/wp-content/uploads/2026/03/Tranquil-Tuesdays_Postcard.jpg
END:VEVENT
BEGIN:VEVENT
DTSTART;TZID=America/Chicago:20260711T093000
DTEND;TZID=America/Chicago:20260711T110000
DTSTAMP:20260422T164257
CREATED:20260318T140141Z
LAST-MODIFIED:20260318T162859Z
UID:10001058-1783762200-1783767600@northernillinoishospice.org
SUMMARY:A Walkabout With Grief - July 11\, 2026
DESCRIPTION:[vc_row nav_skin=”light” consent_include=”include”][vc_column css_animation=””][vc_column_text css=””] \nJoin Northern Illinois Hospice for A Walkabout With Grief on Saturday\, July 11\, 2026. This is a group for semi-active adults who are grieving the loss of a loved one. You’ll experience 45 minutes of walking with 15 minutes of discussion at the start and end of each session. It’s a beautiful setting with a paved walking path\, intermittent shade\, and benches available along the path to sit and view the small lake. \nOutings are on the 2nd Saturday of the month from May through October\, from 9:30 AM – 11:00 AM at Sycamore Lake Rotary Park\, 400 N Cross St. \n\nMay 9\nJune 13\nJuly 11\nAugust 8\nSeptember 12\nOctober 10\n\nPart of the path has some elevation. You will want to pack water\, a snack and dress appropriately\, including good walking shoes. If there’s rain in the forecast\, the group might be cancelled. No registration required. Just come on out and walkabout! \nWalkabouts are a symbolic journey and rite of passage. In grief\, we walk a journey not chosen by us\, but one that demonstrates our deep love. Grief is not a problem to be solved. Instead\, it’s an expression to be lived and a life passage from who we used to be into who we are becoming\, all while honoring our beloved. \nWe hope you will join us for our next Walkabout With Grief on Saturday\, July 11\, 2026![/vc_column_text][vc_empty_space][vc_separator line_color=”{“id“:“Main accent color“\,“color“:“#9e76b4“}” height=”2px” css_animation=””][vc_empty_space][vc_text_element css_animation=””] \nIn addition to Bridge of Hope\, Northern Illinois Hospice offers a variety of other grief support groups tailored to different needs and communities\, including: \n\nMemorial Pillow Workshops\nTranquil Tuesdays\nA Walkabout With Grief\nBridge of Hope\, A Bereavement Care Group – Rockford\nBridge of Hope\, A Bereavement Care Group – Sycamore\n\nFor more information about these programs and how to register\, please contact Northern Illinois Hospice at 815-398-0500. \n[/vc_text_element][/vc_column][/vc_row]
URL:https://northernillinoishospice.org/event-details/a-walkabout-with-grief-july-11-2026/
LOCATION:Sycamore Lake Rotary Park\, 400 N. Cross Street\, Sycamore
ATTACH;FMTTYPE=image/png:https://northernillinoishospice.org/wp-content/uploads/2025/06/A-walkabout-with-Grief.png
END:VEVENT
BEGIN:VEVENT
DTSTART;TZID=America/Chicago:20260714T103000
DTEND;TZID=America/Chicago:20260714T120000
DTSTAMP:20260422T164257
CREATED:20260318T161459Z
LAST-MODIFIED:20260318T162859Z
UID:10001069-1784025000-1784030400@northernillinoishospice.org
SUMMARY:Tranquil Tuesdays - July 14\, 2026
DESCRIPTION:[vc_row nav_skin=”light” consent_include=”include”][vc_column css_animation=””][vc_text_element css_animation=””] \nGrief can sometimes be overwhelming\, and nature is a great means to break the cycle of stressors. Please join Northern Illinois Hospice for Tranquil Tuesdays on July 14\, 2026\, at Anderson Gardens as we explore the grief in our lives and experience new ways to grow through our grief and loss stories. \nDates: Tuesdays\, June 2 – September 1\, 2026\nTime: 10:30 AM – 12:00 PM\nLocation: Anderson Japanese Gardens\, 318 Spring Creek Road\, Rockford \nReservations are required. Please call Northern Illinois Hospice Bereavement Coordinator\, Cindy Holda\, at 779-774-9820 to reserve your place! Group size is limited. \nWe hope to see you July 14\, 2026 at Anderson Gardens for the next Tranquil Tuesdays session. \n\n                \n                        \n                            Tranquil Tuesdays\n                             \n                        \n                        Name*Home Address (Address\, City\, State\, Zip)*Email*Phone*CAPTCHA\n          \n            \n            \n            \n            \n            \n            \n            \n            \n            \n            \n            \n            \n            \n        \n                        \n                        \n\nIn addition to Bridge of Hope\, Northern Illinois Hospice offers a variety of other grief support groups tailored to different needs and communities\, including: \n\nMemorial Pillow Workshops\nA Walkabout With Grief\nBridge of Hope\, A Bereavement Care Group – Rockford\nBridge of Hope\, A Bereavement Care Group – Sycamore\nTranquil Tuesdays\n\nFor more information about these programs and how to register\, please contact Northern Illinois Hospice at 815-398-0500. \n[/vc_text_element][/vc_column][/vc_row]
URL:https://northernillinoishospice.org/event-details/tranquil-tuesdays-july-14-2026/
LOCATION:Anderson Japanese Gardens\, 318 Spring Creek Road\, Rockford\, 61107
ATTACH;FMTTYPE=image/jpeg:https://northernillinoishospice.org/wp-content/uploads/2026/03/Tranquil-Tuesdays_Postcard.jpg
END:VEVENT
BEGIN:VEVENT
DTSTART;TZID=America/Chicago:20260721T103000
DTEND;TZID=America/Chicago:20260721T120000
DTSTAMP:20260422T164257
CREATED:20260318T161634Z
LAST-MODIFIED:20260318T162859Z
UID:10001070-1784629800-1784635200@northernillinoishospice.org
SUMMARY:Tranquil Tuesdays - July 21\, 2026
DESCRIPTION:[vc_row nav_skin=”light” consent_include=”include”][vc_column css_animation=””][vc_text_element css_animation=””] \nGrief can sometimes be overwhelming\, and nature is a great means to break the cycle of stressors. Please join Northern Illinois Hospice for Tranquil Tuesdays on July 21\, 2026\, at Anderson Gardens as we explore the grief in our lives and experience new ways to grow through our grief and loss stories. \nDates: Tuesdays\, June 2 – September 1\, 2026\nTime: 10:30 AM – 12:00 PM\nLocation: Anderson Japanese Gardens\, 318 Spring Creek Road\, Rockford \nReservations are required. Please call Northern Illinois Hospice Bereavement Coordinator\, Cindy Holda\, at 779-774-9820 to reserve your place! Group size is limited. \nWe hope to see you July 21\, 2026 at Anderson Gardens for the next Tranquil Tuesdays session. \n\n                \n                        \n                            Tranquil Tuesdays\n                             \n                        \n                        Name*Home Address (Address\, City\, State\, Zip)*Email*Phone*CAPTCHA\n          \n            \n            \n            \n            \n            \n            \n            \n            \n            \n            \n            \n            \n            \n        \n                        \n                        \n\nIn addition to Bridge of Hope\, Northern Illinois Hospice offers a variety of other grief support groups tailored to different needs and communities\, including: \n\nMemorial Pillow Workshops\nA Walkabout With Grief\nBridge of Hope\, A Bereavement Care Group – Rockford\nBridge of Hope\, A Bereavement Care Group – Sycamore\nTranquil Tuesdays\n\nFor more information about these programs and how to register\, please contact Northern Illinois Hospice at 815-398-0500. \n[/vc_text_element][/vc_column][/vc_row]
URL:https://northernillinoishospice.org/event-details/tranquil-tuesdays-july-21-2026/
LOCATION:Anderson Japanese Gardens\, 318 Spring Creek Road\, Rockford\, 61107
ATTACH;FMTTYPE=image/jpeg:https://northernillinoishospice.org/wp-content/uploads/2026/03/Tranquil-Tuesdays_Postcard.jpg
END:VEVENT
BEGIN:VEVENT
DTSTART;TZID=America/Chicago:20260728T103000
DTEND;TZID=America/Chicago:20260728T120000
DTSTAMP:20260422T164257
CREATED:20260318T161829Z
LAST-MODIFIED:20260318T162859Z
UID:10001071-1785234600-1785240000@northernillinoishospice.org
SUMMARY:Tranquil Tuesdays - July 28\, 2026
DESCRIPTION:[vc_row nav_skin=”light” consent_include=”include”][vc_column css_animation=””][vc_text_element css_animation=””] \nGrief can sometimes be overwhelming\, and nature is a great means to break the cycle of stressors. Please join Northern Illinois Hospice for Tranquil Tuesdays on July 28\, 2026\, at Anderson Gardens as we explore the grief in our lives and experience new ways to grow through our grief and loss stories. \nDates: Tuesdays\, June 2 – September 1\, 2026\nTime: 10:30 AM – 12:00 PM\nLocation: Anderson Japanese Gardens\, 318 Spring Creek Road\, Rockford \nReservations are required. Please call Northern Illinois Hospice Bereavement Coordinator\, Cindy Holda\, at 779-774-9820 to reserve your place! Group size is limited. \nWe hope to see you July 28\, 2026 at Anderson Gardens for the next Tranquil Tuesdays session. \n\n                \n                        \n                            Tranquil Tuesdays\n                             \n                        \n                        Name*Home Address (Address\, City\, State\, Zip)*Email*Phone*CAPTCHA\n          \n            \n            \n            \n            \n            \n            \n            \n            \n            \n            \n            \n            \n            \n        \n                        \n                        \n\nIn addition to Bridge of Hope\, Northern Illinois Hospice offers a variety of other grief support groups tailored to different needs and communities\, including: \n\nMemorial Pillow Workshops\nA Walkabout With Grief\nBridge of Hope\, A Bereavement Care Group – Rockford\nBridge of Hope\, A Bereavement Care Group – Sycamore\nTranquil Tuesdays\n\nFor more information about these programs and how to register\, please contact Northern Illinois Hospice at 815-398-0500. \n[/vc_text_element][/vc_column][/vc_row]
URL:https://northernillinoishospice.org/event-details/tranquil-tuesdays-july-28-2026/
LOCATION:Anderson Japanese Gardens\, 318 Spring Creek Road\, Rockford\, 61107
ATTACH;FMTTYPE=image/jpeg:https://northernillinoishospice.org/wp-content/uploads/2026/03/Tranquil-Tuesdays_Postcard.jpg
END:VEVENT
BEGIN:VEVENT
DTSTART;TZID=America/Chicago:20260730T124500
DTEND;TZID=America/Chicago:20260730T124500
DTSTAMP:20260422T164257
CREATED:20260112T213020Z
LAST-MODIFIED:20260318T162859Z
UID:10001039-1785415500-1785415500@northernillinoishospice.org
SUMMARY:38th Annual Charity Golf Event - July 30\, 2026
DESCRIPTION:[vc_row nav_skin=”light” consent_include=”include”][vc_column css_animation=””][vc_column_text css=””] \n\n\nSave the date for the 38th Annual Charity Golf Event\, hosted by the Northern Illinois Hospice Foundation. Mark your calendars and join us for a Thursday of impact\, celebration\, and community. \n\nThis year brings new sponsorship levels designed to maximize your visibility and support for our missions. You can select your sponsorship choice/level now and submit payment next year. \nYour support makes all the difference—thank you for being part of this journey. \n  \nSave the Date: \nThursday\, July 30\, 2026 \n12:45 Shotgun Start \nAldeen Golf Club\, Rockford\, IL \n\n[/vc_column_text][/vc_column][/vc_row]
URL:https://northernillinoishospice.org/event-details/38th-annual-charity-golf-event-july-30-2026/
LOCATION:Aldeen Golf Club\, 1902 Reid Farm Road\, Rockford\, 61107
ATTACH;FMTTYPE=image/jpeg:https://northernillinoishospice.org/wp-content/uploads/2026/01/NIH-38th-Annual-Golf-Event_Page.jpg
END:VEVENT
END:VCALENDAR